BEGIN:VCALENDAR
VERSION:2.0
PRODID:-//wp-events-plugin.com//7.2.3.1//EN
BEGIN:VEVENT
UID:4@parrocchiaspilimbergo.com
DTSTART:20241225T100000Z
DTEND:20241225T113000Z
DTSTAMP:20241208T221411Z
URL:https://www.parrocchiaspilimbergo.com/eventi/santa-messa-di-natale-con
 -i-confratelli-25-12-2024/
SUMMARY:Santa Messa di Natale con i Confratelli 25/12/2024
DESCRIPTION:Natale. Santa Messa con la partecipazione solenne della Confrat
 ernita del Santissimo Corpo e Sangue del nostro Signore Gesù Cristo. Ritr
 ovo 10:00 Orario S. Messa 10:30.
LOCATION:Duomo Spilimbergo e poi in Oratorio\, Piazza Duomo 4\, Spilimbergo
 \, Pordenone\, 33097\, Friuli Venezia Giulia\, Italia
X-APPLE-STRUCTURED-LOCATION;VALUE=URI;X-ADDRESS=Piazza Duomo 4\, Spilimberg
 o\, Pordenone\, 33097\, Friuli Venezia Giulia\, Italia;X-APPLE-RADIUS=100;
 X-TITLE=Duomo Spilimbergo e poi in Oratorio:geo:0,0
END:VEVENT
END:VCALENDAR