BEGIN:VCALENDAR
VERSION:2.0
PRODID:-//wp-events-plugin.com//7.2.3.1//EN
BEGIN:VEVENT
UID:3@parrocchiaspilimbergo.com
DTSTART:20241224T233000Z
DTEND:20241224T234500Z
DTSTAMP:20241208T221100Z
URL:https://www.parrocchiaspilimbergo.com/eventi/santa-messa-con-la-presen
 za-della-confraternita/
SUMMARY:Santa Messa con la presenza della Confraternita
DESCRIPTION:Veglia di Natale. Santa Messa con la partecipazione solenne del
 la Confraternita del Santissimo Corpo e Sangue del nostro Signore Gesù Cr
 isto. Ritrovo 23:30 Orario S. Messa 24:00.
LOCATION:Duomo Spilimbergo e poi in Oratorio\, Piazza Duomo 4\, Spilimbergo
 \, Pordenone\, 33097\, Friuli Venezia Giulia\, Italia
X-APPLE-STRUCTURED-LOCATION;VALUE=URI;X-ADDRESS=Piazza Duomo 4\, Spilimberg
 o\, Pordenone\, 33097\, Friuli Venezia Giulia\, Italia;X-APPLE-RADIUS=100;
 X-TITLE=Duomo Spilimbergo e poi in Oratorio:geo:0,0
END:VEVENT
END:VCALENDAR