BEGIN:VCALENDAR
VERSION:2.0
PRODID:-//wp-events-plugin.com//7.2.3.1//EN
BEGIN:VEVENT
UID:6@parrocchiaspilimbergo.com
DTSTART:20250106T100000Z
DTEND:20250106T113000Z
DTSTAMP:20241208T221912Z
URL:https://www.parrocchiaspilimbergo.com/eventi/messa-con-la-confraternit
 a-6-gennaio-2025/
SUMMARY:Messa con la Confraternita 6 Gennaio 2025
DESCRIPTION:Epifania del Signore. Santa Messa con la partecipazione solenne
  della Confraternita del Santissimo Corpo e Sangue del nostro Signore Ges
 ù Cristo. Ritrovo 10:00 Orario S. Messa 10:30.
END:VEVENT
END:VCALENDAR