BEGIN:VCALENDAR
VERSION:2.0
PRODID:-//wp-events-plugin.com//7.2.3.1//EN
BEGIN:VEVENT
UID:5@parrocchiaspilimbergo.com
DTSTART:20250101T173000Z
DTEND:20250101T190000Z
DTSTAMP:20241208T221731Z
URL:https://www.parrocchiaspilimbergo.com/eventi/messa-con-i-confratelli-1
 -gennaio-2025/
SUMMARY:Messa con i Confratelli 1 Gennaio 2025
DESCRIPTION:Capodanno. Santa Messa con la partecipazione solenne della Conf
 raternita del Santissimo Corpo e Sangue del nostro Signore Gesù Cristo. R
 itrovo 17:30 Orario S. Messa 18:00.
LOCATION:Duomo\, Chiesa di Santa Maria  Maggiore\, Piazza Duomo 4\, Spilimb
 ergo\, Pordenone\, 33097\, Friuli Venezia Giulia\, Italia
X-APPLE-STRUCTURED-LOCATION;VALUE=URI;X-ADDRESS=Piazza Duomo 4\, Spilimberg
 o\, Pordenone\, 33097\, Friuli Venezia Giulia\, Italia;X-APPLE-RADIUS=100;
 X-TITLE=Duomo\, Chiesa di Santa Maria  Maggiore:geo:0,0
END:VEVENT
END:VCALENDAR