BEGIN:VCALENDAR
VERSION:2.0
PRODID:-//wp-events-plugin.com//7.2.3.1//EN
BEGIN:VEVENT
UID:2@parrocchiaspilimbergo.com
DTSTART:20241214T174500Z
DTEND:20241214T213000Z
DTSTAMP:20241208T220512Z
URL:https://www.parrocchiaspilimbergo.com/eventi/catelive-14-dicembre-2024
 /
SUMMARY:CateLIVE 14 Dicembre 2024
DESCRIPTION:Nuovo appuntamento con il CateLIVE per i ragazzi delle medie
LOCATION:Duomo Spilimbergo e poi in Oratorio\, Piazza Duomo 4\, Spilimbergo
 \, Pordenone\, 33097\, Friuli Venezia Giulia\, Italia
X-APPLE-STRUCTURED-LOCATION;VALUE=URI;X-ADDRESS=Piazza Duomo 4\, Spilimberg
 o\, Pordenone\, 33097\, Friuli Venezia Giulia\, Italia;X-APPLE-RADIUS=100;
 X-TITLE=Duomo Spilimbergo e poi in Oratorio:geo:0,0
END:VEVENT
END:VCALENDAR