BEGIN:VCALENDAR
VERSION:2.0
PRODID:-//wp-events-plugin.com//7.2.3.1//EN
BEGIN:VEVENT
UID:9@parrocchiaspilimbergo.com
DTSTART:20250106T150000Z
DTEND:20250106T180000Z
DTSTAMP:20241229T114547Z
URL:https://www.parrocchiaspilimbergo.com/eventi/benedizione-dei-bambini/
SUMMARY:Benedizione dei Bambini
DESCRIPTION:Nel pomeriggio in Duomo a Spilimbergo ore 15:00 Benedizione Dei
  Bambini. A seguire il Falò per i bambini a Barbeano.
END:VEVENT
END:VCALENDAR